BEGIN:VCALENDAR
VERSION:2.0
PRODID:-//Coorg Institute of Technology - ECPv5.12.3//NONSGML v1.0//EN
CALSCALE:GREGORIAN
METHOD:PUBLISH
X-WR-CALNAME:Coorg Institute of Technology
X-ORIGINAL-URL:https://www.citcoorg.edu.in
X-WR-CALDESC:Events for Coorg Institute of Technology
REFRESH-INTERVAL;VALUE=DURATION:PT1H
X-Robots-Tag:noindex
X-PUBLISHED-TTL:PT1H
BEGIN:VTIMEZONE
TZID:Asia/Kolkata
BEGIN:STANDARD
TZOFFSETFROM:+0530
TZOFFSETTO:+0530
TZNAME:IST
DTSTART:20240101T000000
END:STANDARD
END:VTIMEZONE
BEGIN:VEVENT
DTSTART;TZID=Asia/Kolkata:20240216T080000
DTEND;TZID=Asia/Kolkata:20240216T170000
DTSTAMP:20260420T210020
CREATED:20240427T100126Z
LAST-MODIFIED:20240427T100126Z
UID:10030-1708070400-1708102800@www.citcoorg.edu.in
SUMMARY:Social Connect and Responsibility
DESCRIPTION:On 16th February 2024\, as a part of 3rd semester curriculum The Social connect & Responsibility (SCR)\, a heritage tour is organized for the department of Artificial Intelligence and Data Science. It’s a voyage dedicated to strengthening bonds\, understanding diverse perspectives\, and championing causes that resonate with the essence of humanity. Through this tour\, we embrace our responsibility to uplift and empower those in need\, embodying the true spirit of compassion and solidarity.
URL:https://www.citcoorg.edu.in/event/social-connect-and-responsibility/
LOCATION:banglore
CATEGORIES:AI&DS
ATTACH;FMTTYPE=image/jpeg:https://www.citcoorg.edu.in/wp-content/uploads/2024/04/4.jpg
END:VEVENT
BEGIN:VEVENT
DTSTART;TZID=Asia/Kolkata:20240222T080000
DTEND;TZID=Asia/Kolkata:20240222T170000
DTSTAMP:20260420T210020
CREATED:20240427T100332Z
LAST-MODIFIED:20240427T100332Z
UID:10033-1708588800-1708621200@www.citcoorg.edu.in
SUMMARY:Inauguration of AI & DS Department Laboratory
DESCRIPTION:On 22nd February 2024\, a significant event marked the inauguration of the Artificial Intelligence and Data Science (AI & DS) Lab. A landmark moment for innovation and progress\, with the visionary leadership of Sri. Prathap Simha\, MP Representing Mysore & Kodagu District\, we embark on a journey of technological advancement and discovery. This lab stands as a testament to our commitment to harnessing the power of artificial intelligence and data science for the betterment of society.
URL:https://www.citcoorg.edu.in/event/inauguration-of-ai-ds-department-laboratory/
LOCATION:CIT Ponnampet\,kodagu\, halligattu village and post\, ponnampet\, karnataka\, 571216\, India
CATEGORIES:AI&DS
ATTACH;FMTTYPE=image/jpeg:https://www.citcoorg.edu.in/wp-content/uploads/2024/04/5.2.jpg
END:VEVENT
END:VCALENDAR