BEGIN:VCALENDAR
VERSION:2.0
PRODID:-//Coorg Institute of Technology - ECPv5.12.3//NONSGML v1.0//EN
CALSCALE:GREGORIAN
METHOD:PUBLISH
X-WR-CALNAME:Coorg Institute of Technology
X-ORIGINAL-URL:https://www.citcoorg.edu.in
X-WR-CALDESC:Events for Coorg Institute of Technology
REFRESH-INTERVAL;VALUE=DURATION:PT1H
X-Robots-Tag:noindex
X-PUBLISHED-TTL:PT1H
BEGIN:VTIMEZONE
TZID:Asia/Kolkata
BEGIN:STANDARD
TZOFFSETFROM:+0530
TZOFFSETTO:+0530
TZNAME:IST
DTSTART:20240101T000000
END:STANDARD
END:VTIMEZONE
BEGIN:VEVENT
DTSTART;TZID=Asia/Kolkata:20241004T100000
DTEND;TZID=Asia/Kolkata:20241004T163000
DTSTAMP:20260420T100354
CREATED:20260224T092200Z
LAST-MODIFIED:20260224T092200Z
UID:11124-1728036000-1728059400@www.citcoorg.edu.in
SUMMARY:Tech -talk
DESCRIPTION:The AI & DS Department conducted Tech Talk 2024\, where students delivered presentations on emerging technologies to enhance their technical knowledge and communication skills. The event encouraged self-learning\, research\, and confidence-building among participants. Through peer learning and interaction\, students gained exposure to new technological trends and improved their presentation abilities.
URL:https://www.citcoorg.edu.in/event/tech-talk-2/
LOCATION:CIT Ponnampet\,kodagu\, halligattu village and post\, ponnampet\, karnataka\, 571216\, India
CATEGORIES:AI&DS
ATTACH;FMTTYPE=image/jpeg:https://www.citcoorg.edu.in/wp-content/uploads/2026/02/website-updation-report-Copy_Page_30_Image_0002.jpg
END:VEVENT
END:VCALENDAR