BEGIN:VCALENDAR
VERSION:2.0
PRODID:-//Coorg Institute of Technology - ECPv5.12.3//NONSGML v1.0//EN
CALSCALE:GREGORIAN
METHOD:PUBLISH
X-WR-CALNAME:Coorg Institute of Technology
X-ORIGINAL-URL:https://www.citcoorg.edu.in
X-WR-CALDESC:Events for Coorg Institute of Technology
REFRESH-INTERVAL;VALUE=DURATION:PT1H
X-Robots-Tag:noindex
X-PUBLISHED-TTL:PT1H
BEGIN:VTIMEZONE
TZID:Asia/Kolkata
BEGIN:STANDARD
TZOFFSETFROM:+0530
TZOFFSETTO:+0530
TZNAME:IST
DTSTART:20240101T000000
END:STANDARD
END:VTIMEZONE
BEGIN:VEVENT
DTSTART;TZID=Asia/Kolkata:20241105T100000
DTEND;TZID=Asia/Kolkata:20241105T170000
DTSTAMP:20260420T084325
CREATED:20260224T092548Z
LAST-MODIFIED:20260224T092548Z
UID:11122-1730800800-1730826000@www.citcoorg.edu.in
SUMMARY:Ayudha pooja on Dasara
DESCRIPTION:The Department of Artificial Intelligence and Data Science organized an Ayudha Pooja for all the students the department on 05th November 2025. The program aimed to enhance Spiritual\, Cultural & Divine Essence among all the people.
URL:https://www.citcoorg.edu.in/event/ayudha-pooja-on-dasara/
LOCATION:CIT Ponnampet\,kodagu\, halligattu village and post\, ponnampet\, karnataka\, 571216\, India
CATEGORIES:AI&DS
ATTACH;FMTTYPE=image/jpeg:https://www.citcoorg.edu.in/wp-content/uploads/2026/02/website-updation-report-Copy_Page_29_Image_0003.jpg
END:VEVENT
BEGIN:VEVENT
DTSTART;TZID=Asia/Kolkata:20241115T100000
DTEND;TZID=Asia/Kolkata:20241115T170000
DTSTAMP:20260420T084325
CREATED:20260224T093518Z
LAST-MODIFIED:20260224T093518Z
UID:11118-1731664800-1731690000@www.citcoorg.edu.in
SUMMARY:SDP--certificate course on fundamentals of DSA
DESCRIPTION:A certificate course on Fundamentals of Data Structures and Algorithms was held on 15th November 2024\, providing students with hands-on learning and practical understanding of essential DSA concepts.
URL:https://www.citcoorg.edu.in/event/sdp-certificate-course-on-fundamentals-of-dsa/
LOCATION:CIT Ponnampet\,kodagu\, halligattu village and post\, ponnampet\, karnataka\, 571216\, India
CATEGORIES:AI&DS
ATTACH;FMTTYPE=image/jpeg:https://www.citcoorg.edu.in/wp-content/uploads/2026/02/website-updation-report-Copy_Page_27_Image_0003.jpg
END:VEVENT
BEGIN:VEVENT
DTSTART;TZID=Asia/Kolkata:20241126T100000
DTEND;TZID=Asia/Kolkata:20241126T170000
DTSTAMP:20260420T084325
CREATED:20260224T093118Z
LAST-MODIFIED:20260224T093118Z
UID:11120-1732615200-1732640400@www.citcoorg.edu.in
SUMMARY:Industrial Visit to ISRO
DESCRIPTION:The 3rd semester AI & DS students (2023 batch) visited ISRO’s UR Rao Satellite Centre on 26th November 2024\, gaining valuable insights into satellite technology and space research. The visit inspired students to explore innovations in space science and national scientific advancements.
URL:https://www.citcoorg.edu.in/event/industrial-visit-to-isro-2/
LOCATION:CIT Ponnampet\,kodagu\, halligattu village and post\, ponnampet\, karnataka\, 571216\, India
CATEGORIES:AI&DS
ATTACH;FMTTYPE=image/jpeg:https://www.citcoorg.edu.in/wp-content/uploads/2026/02/website-updation-report-Copy_Page_28_Image_0002.jpg
END:VEVENT
END:VCALENDAR