BEGIN:VCALENDAR
VERSION:2.0
PRODID:-//Coorg Institute of Technology - ECPv5.12.3//NONSGML v1.0//EN
CALSCALE:GREGORIAN
METHOD:PUBLISH
X-WR-CALNAME:Coorg Institute of Technology
X-ORIGINAL-URL:https://www.citcoorg.edu.in
X-WR-CALDESC:Events for Coorg Institute of Technology
REFRESH-INTERVAL;VALUE=DURATION:PT1H
X-Robots-Tag:noindex
X-PUBLISHED-TTL:PT1H
BEGIN:VTIMEZONE
TZID:Asia/Kolkata
BEGIN:STANDARD
TZOFFSETFROM:+0530
TZOFFSETTO:+0530
TZNAME:IST
DTSTART:20240101T000000
END:STANDARD
END:VTIMEZONE
BEGIN:VEVENT
DTSTART;VALUE=DATE:20240513
DTEND;VALUE=DATE:20240519
DTSTAMP:20260420T180203
CREATED:20260224T091136Z
LAST-MODIFIED:20260224T091406Z
UID:11132-1715558400-1716076799@www.citcoorg.edu.in
SUMMARY:Certification course on deepfake technology- “cyber Security Implications & Defences”
DESCRIPTION:A certification course on Deepfake Technology and Cyber Security Defences was conducted from 13th to 18th May 2024\, providing students with insights into emerging digital threats. The training enhanced awareness of deepfake risks and equipped learners with modern defensive strategies.
URL:https://www.citcoorg.edu.in/event/certification-course-on-deepfake-technology-cyber-security-implications-defences/
LOCATION:CIT Ponnampet\,kodagu\, halligattu village and post\, ponnampet\, karnataka\, 571216\, India
CATEGORIES:AI&DS
ATTACH;FMTTYPE=image/jpeg:https://www.citcoorg.edu.in/wp-content/uploads/2026/02/website-updation-report-Copy_Page_33_Image_0002.jpg
END:VEVENT
END:VCALENDAR