BEGIN:VCALENDAR
VERSION:2.0
PRODID:-//Coorg Institute of Technology - ECPv5.12.3//NONSGML v1.0//EN
CALSCALE:GREGORIAN
METHOD:PUBLISH
X-WR-CALNAME:Coorg Institute of Technology
X-ORIGINAL-URL:https://www.citcoorg.edu.in
X-WR-CALDESC:Events for Coorg Institute of Technology
REFRESH-INTERVAL;VALUE=DURATION:PT1H
X-Robots-Tag:noindex
X-PUBLISHED-TTL:PT1H
BEGIN:VTIMEZONE
TZID:Asia/Kolkata
BEGIN:STANDARD
TZOFFSETFROM:+0530
TZOFFSETTO:+0530
TZNAME:IST
DTSTART:20250101T000000
END:STANDARD
END:VTIMEZONE
BEGIN:VEVENT
DTSTART;TZID=Asia/Kolkata:20250317T080000
DTEND;TZID=Asia/Kolkata:20250317T170000
DTSTAMP:20260420T042140
CREATED:20260224T094353Z
LAST-MODIFIED:20260224T094353Z
UID:11157-1742198400-1742230800@www.citcoorg.edu.in
SUMMARY:Vanyajeevotsavah
DESCRIPTION:The department organized Vanyajeevotsavah to commemorate World Wildlife Day 2025\, themed “Together for Wildlife: Save Species\, Save Earth!”. The event aimed to create awareness about wildlife conservation and the need to protect endangered species. Students participated in activities and discussions that encouraged environmental responsibility and a deeper understanding of biodiversity conservation \n 
URL:https://www.citcoorg.edu.in/event/vanyajeevotsavah/
LOCATION:CIT Ponnampet\,kodagu\, halligattu village and post\, ponnampet\, karnataka\, 571216\, India
CATEGORIES:AI&DS
ATTACH;FMTTYPE=image/jpeg:https://www.citcoorg.edu.in/wp-content/uploads/2026/02/website-updation-report-Copy_Page_23_Image_0005.jpg
END:VEVENT
END:VCALENDAR