BEGIN:VCALENDAR
VERSION:2.0
PRODID:-//Coorg Institute of Technology - ECPv5.12.3//NONSGML v1.0//EN
CALSCALE:GREGORIAN
METHOD:PUBLISH
X-WR-CALNAME:Coorg Institute of Technology
X-ORIGINAL-URL:https://www.citcoorg.edu.in
X-WR-CALDESC:Events for Coorg Institute of Technology
REFRESH-INTERVAL;VALUE=DURATION:PT1H
X-Robots-Tag:noindex
X-PUBLISHED-TTL:PT1H
BEGIN:VTIMEZONE
TZID:Asia/Kolkata
BEGIN:STANDARD
TZOFFSETFROM:+0530
TZOFFSETTO:+0530
TZNAME:IST
DTSTART:20250101T000000
END:STANDARD
END:VTIMEZONE
BEGIN:VEVENT
DTSTART;TZID=Asia/Kolkata:20251129T080000
DTEND;TZID=Asia/Kolkata:20251129T170000
DTSTAMP:20260420T210449
CREATED:20260224T101417Z
LAST-MODIFIED:20260224T101417Z
UID:11136-1764403200-1764435600@www.citcoorg.edu.in
SUMMARY:SCR - An Heritage Tour
DESCRIPTION:A visit to Mamana Temple \, Parassinikadavu  Temple \, was organized for the 3rd-semester students of AI & DS on 29th November 2025. The purpose of this visit was to provide students with  the history of the heritage places which enriched Spiritual knowledge of the students.
URL:https://www.citcoorg.edu.in/event/scr-an-heritage-tour/
LOCATION:Parassinikadavu  Temple
CATEGORIES:AI&DS
ATTACH;FMTTYPE=image/jpeg:https://www.citcoorg.edu.in/wp-content/uploads/2026/02/website-updation-report-Copy_Page_13_Image_0005.jpg
END:VEVENT
END:VCALENDAR