BEGIN:VCALENDAR
VERSION:2.0
PRODID:-//Coorg Institute of Technology - ECPv5.12.3//NONSGML v1.0//EN
CALSCALE:GREGORIAN
METHOD:PUBLISH
X-WR-CALNAME:Coorg Institute of Technology
X-ORIGINAL-URL:https://www.citcoorg.edu.in
X-WR-CALDESC:Events for Coorg Institute of Technology
REFRESH-INTERVAL;VALUE=DURATION:PT1H
X-Robots-Tag:noindex
X-PUBLISHED-TTL:PT1H
BEGIN:VTIMEZONE
TZID:Asia/Kolkata
BEGIN:STANDARD
TZOFFSETFROM:+0530
TZOFFSETTO:+0530
TZNAME:IST
DTSTART:20250101T000000
END:STANDARD
END:VTIMEZONE
BEGIN:VEVENT
DTSTART;TZID=Asia/Kolkata:20250326T093000
DTEND;TZID=Asia/Kolkata:20250326T163000
DTSTAMP:20260421T153824
CREATED:20250623T062746Z
LAST-MODIFIED:20250623T062746Z
UID:10470-1742981400-1743006600@www.citcoorg.edu.in
SUMMARY:CHESHIRE HOME VISIT :REFLECTING  ON THE IMPORTANCE OF COMPASSION\, KINDNESS\, AND COMMUNITY SERVICE
DESCRIPTION:Students interacting with the pupils of Cheshire Home
URL:https://www.citcoorg.edu.in/event/cheshire-home-visit-reflecting-on-the-importance-of-compassion-kindness-and-community-service/
LOCATION:CIT Ponnampet\,kodagu\, halligattu village and post\, ponnampet\, karnataka\, 571216\, India
CATEGORIES:Basic science
ATTACH;FMTTYPE=image/jpeg:https://www.citcoorg.edu.in/wp-content/uploads/2025/06/BSH-Social-Media-II-sem-24-25_Page_4_Image_0001.jpg
END:VEVENT
END:VCALENDAR